BEGIN:VCALENDAR
VERSION:2.0
PRODID:-//Académie des HP - ECPv6.15.20//NONSGML v1.0//EN
CALSCALE:GREGORIAN
METHOD:PUBLISH
X-WR-CALNAME:Académie des HP
X-ORIGINAL-URL:https://academie-des-hp.com
X-WR-CALDESC:Évènements pour Académie des HP
REFRESH-INTERVAL;VALUE=DURATION:PT1H
X-Robots-Tag:noindex
X-PUBLISHED-TTL:PT1H
BEGIN:VTIMEZONE
TZID:Europe/Brussels
BEGIN:DAYLIGHT
TZOFFSETFROM:+0100
TZOFFSETTO:+0200
TZNAME:CEST
DTSTART:20210328T010000
END:DAYLIGHT
BEGIN:STANDARD
TZOFFSETFROM:+0200
TZOFFSETTO:+0100
TZNAME:CET
DTSTART:20211031T010000
END:STANDARD
BEGIN:DAYLIGHT
TZOFFSETFROM:+0100
TZOFFSETTO:+0200
TZNAME:CEST
DTSTART:20220327T010000
END:DAYLIGHT
BEGIN:STANDARD
TZOFFSETFROM:+0200
TZOFFSETTO:+0100
TZNAME:CET
DTSTART:20221030T010000
END:STANDARD
BEGIN:DAYLIGHT
TZOFFSETFROM:+0100
TZOFFSETTO:+0200
TZNAME:CEST
DTSTART:20230326T010000
END:DAYLIGHT
BEGIN:STANDARD
TZOFFSETFROM:+0200
TZOFFSETTO:+0100
TZNAME:CET
DTSTART:20231029T010000
END:STANDARD
END:VTIMEZONE
BEGIN:VEVENT
DTSTART;TZID=Europe/Brussels:20220919T183000
DTEND;TZID=Europe/Brussels:20220919T200000
DTSTAMP:20260423T163026
CREATED:20220629T051446Z
LAST-MODIFIED:20220629T051446Z
UID:756-1663612200-1663617600@academie-des-hp.com
SUMMARY:Conférence et dédicaces chez Filigranes
DESCRIPTION:Venez rencontrer Patrick GROS et Jérémy MICHEL pour une présentation du livre « Dans la tête des HP: de Haut Potentiel à Hyper-Préfrontal » suivie d’une séance de dédicaces.
URL:https://academie-des-hp.com/inscription/conference-et-dedicaces-chez-filigranes/
LOCATION:Filigranes\, Avenue des Arts 39\, Bruxelles\, 1040
CATEGORIES:conférence
ATTACH;FMTTYPE=image/jpeg:https://academie-des-hp.com/wp-content/uploads/2022/05/dans-la-tete-des-hp-de-haut-potentiel-a-hyper-prefontal.jpg
ORGANIZER;CN="Acad%C3%A9mie des H-P":MAILTO:info@academie-des-hp.com
END:VEVENT
END:VCALENDAR