BEGIN:VCALENDAR
VERSION:2.0
PRODID:-//Académie des HP - ECPv6.15.20//NONSGML v1.0//EN
CALSCALE:GREGORIAN
METHOD:PUBLISH
X-ORIGINAL-URL:https://academie-des-hp.com
X-WR-CALDESC:Évènements pour Académie des HP
REFRESH-INTERVAL;VALUE=DURATION:PT1H
X-Robots-Tag:noindex
X-PUBLISHED-TTL:PT1H
BEGIN:VTIMEZONE
TZID:Europe/Brussels
BEGIN:DAYLIGHT
TZOFFSETFROM:+0100
TZOFFSETTO:+0200
TZNAME:CEST
DTSTART:20210328T010000
END:DAYLIGHT
BEGIN:STANDARD
TZOFFSETFROM:+0200
TZOFFSETTO:+0100
TZNAME:CET
DTSTART:20211031T010000
END:STANDARD
BEGIN:DAYLIGHT
TZOFFSETFROM:+0100
TZOFFSETTO:+0200
TZNAME:CEST
DTSTART:20220327T010000
END:DAYLIGHT
BEGIN:STANDARD
TZOFFSETFROM:+0200
TZOFFSETTO:+0100
TZNAME:CET
DTSTART:20221030T010000
END:STANDARD
BEGIN:DAYLIGHT
TZOFFSETFROM:+0100
TZOFFSETTO:+0200
TZNAME:CEST
DTSTART:20230326T010000
END:DAYLIGHT
BEGIN:STANDARD
TZOFFSETFROM:+0200
TZOFFSETTO:+0100
TZNAME:CET
DTSTART:20231029T010000
END:STANDARD
END:VTIMEZONE
BEGIN:VEVENT
DTSTART;TZID=Europe/Brussels:20220617T093000
DTEND;TZID=Europe/Brussels:20220618T163000
DTSTAMP:20260424T152455
CREATED:20220321T161438Z
LAST-MODIFIED:20220321T162320Z
UID:635-1655458200-1655569800@academie-des-hp.com
SUMMARY:Formation "Pilotez votre cerveau: comprendre et accompagner le H-P"(Bruxelles)
DESCRIPTION:L’Académie des H-P vous propose une formation qui apporte des éléments tangibles basés sur les neurosciences\, explique le mode de fonctionnement H-P et partage un savoir-faire qui a fait ses preuves pour mieux piloter son cerveau et booster ses atouts. \nPlus d’info ici \nou inscrivez-vous:
URL:https://academie-des-hp.com/inscription/formation-pilotez-votre-cerveau-comprendre-et-accompagner-le-h-p/
LOCATION:Académie des H-P\, Allée du Jaquemart 8 bte 4\,\, Nivelles\, 1400\, Belgique
CATEGORIES:Formation
END:VEVENT
END:VCALENDAR