BEGIN:VCALENDAR
VERSION:2.0
PRODID:-//Académie des HP - ECPv6.15.13.1//NONSGML v1.0//EN
CALSCALE:GREGORIAN
METHOD:PUBLISH
X-WR-CALNAME:Académie des HP
X-ORIGINAL-URL:https://academie-des-hp.com
X-WR-CALDESC:Évènements pour Académie des HP
REFRESH-INTERVAL;VALUE=DURATION:PT1H
X-Robots-Tag:noindex
X-PUBLISHED-TTL:PT1H
BEGIN:VTIMEZONE
TZID:Europe/Brussels
BEGIN:DAYLIGHT
TZOFFSETFROM:+0100
TZOFFSETTO:+0200
TZNAME:CEST
DTSTART:20220327T010000
END:DAYLIGHT
BEGIN:STANDARD
TZOFFSETFROM:+0200
TZOFFSETTO:+0100
TZNAME:CET
DTSTART:20221030T010000
END:STANDARD
BEGIN:DAYLIGHT
TZOFFSETFROM:+0100
TZOFFSETTO:+0200
TZNAME:CEST
DTSTART:20230326T010000
END:DAYLIGHT
BEGIN:STANDARD
TZOFFSETFROM:+0200
TZOFFSETTO:+0100
TZNAME:CET
DTSTART:20231029T010000
END:STANDARD
BEGIN:DAYLIGHT
TZOFFSETFROM:+0100
TZOFFSETTO:+0200
TZNAME:CEST
DTSTART:20240331T010000
END:DAYLIGHT
BEGIN:STANDARD
TZOFFSETFROM:+0200
TZOFFSETTO:+0100
TZNAME:CET
DTSTART:20241027T010000
END:STANDARD
END:VTIMEZONE
BEGIN:VEVENT
DTSTART;TZID=Europe/Brussels:20230923T100000
DTEND;TZID=Europe/Brussels:20230923T160000
DTSTAMP:20260423T070356
CREATED:20230128T094649Z
LAST-MODIFIED:20230827T104331Z
UID:1416-1695463200-1695484800@academie-des-hp.com
SUMMARY:Formation: L'hypersensibilité: la comprendre\, l'accepter\, l'utiliser
DESCRIPTION:C’est bien d’être hypersensible mais parfois… c‘est lourd. \nVous avez l’impression d’être une éponge\, d’être trop “percuté” par votre environnement. \nVos  montagnes russes émotionnelles vous gâchent la vie et vous passez votre temps à tenter de les dissimuler. \nLa moindre remarque peut entraîner une remise en question et même les mots d’encouragement peuvent être pris comme des reproches. \nVous cherchez des clés pour trouver le chemin de l’apaisement tout en gardant les bénéfices de cette hypersensibilité. \nCette formation d’une journée\, dispensée en petits groupes par Patrick GROS et Jérémy MICHEL\, coachs spécialisés HP et auteurs du livre “Dans la tête des HP” vous aide à: \n\nComprendre l’hypersensibilité  et ses effets au quotidien (réactions\, fragilité\, anticipation\, émotions\, …)\nComprendre et accepter votre sensibilité et en faire une alliée\,\nMieux vivre avec vous-même pour mieux vivre avec les autres\,\nDégager de nouvelles pistes pour tirer parti de cette sensibilité et la vivre comme une qualité\, un atout\n\nLa formation allie théorie et pratique et propose de découvrir\, dans une ambiance bienveillante\, une nouvelle approche basée sur les neurosciences. Facile à appliquer au quotidien\, elle vous permettra de comprendre les mécanismes en jeu lorsque les émotions débordent\,et de les vivre ainsi de façon plus sereine et plus épanouie. \nInscription 
URL:https://academie-des-hp.com/inscription/formation-lhypersensibilite-la-comprendre-laccepter-lutiliser-5/
LOCATION:Académie des H-P\, Allée du Jaquemart 8 bte 4\,\, Nivelles\, 1400\, Belgique
CATEGORIES:Formation
ORGANIZER;CN="Acad%C3%A9mie des H-P":MAILTO:info@academie-des-hp.com
END:VEVENT
END:VCALENDAR