BEGIN:VCALENDAR
VERSION:2.0
PRODID:-//Académie des HP - ECPv6.15.20//NONSGML v1.0//EN
CALSCALE:GREGORIAN
METHOD:PUBLISH
X-WR-CALNAME:Académie des HP
X-ORIGINAL-URL:https://academie-des-hp.com
X-WR-CALDESC:Évènements pour Académie des HP
REFRESH-INTERVAL;VALUE=DURATION:PT1H
X-Robots-Tag:noindex
X-PUBLISHED-TTL:PT1H
BEGIN:VTIMEZONE
TZID:Europe/Brussels
BEGIN:DAYLIGHT
TZOFFSETFROM:+0100
TZOFFSETTO:+0200
TZNAME:CEST
DTSTART:20210328T010000
END:DAYLIGHT
BEGIN:STANDARD
TZOFFSETFROM:+0200
TZOFFSETTO:+0100
TZNAME:CET
DTSTART:20211031T010000
END:STANDARD
BEGIN:DAYLIGHT
TZOFFSETFROM:+0100
TZOFFSETTO:+0200
TZNAME:CEST
DTSTART:20220327T010000
END:DAYLIGHT
BEGIN:STANDARD
TZOFFSETFROM:+0200
TZOFFSETTO:+0100
TZNAME:CET
DTSTART:20221030T010000
END:STANDARD
BEGIN:DAYLIGHT
TZOFFSETFROM:+0100
TZOFFSETTO:+0200
TZNAME:CEST
DTSTART:20230326T010000
END:DAYLIGHT
BEGIN:STANDARD
TZOFFSETFROM:+0200
TZOFFSETTO:+0100
TZNAME:CET
DTSTART:20231029T010000
END:STANDARD
END:VTIMEZONE
BEGIN:VEVENT
DTSTART;TZID=Europe/Brussels:20220115T093000
DTEND;TZID=Europe/Brussels:20220115T170000
DTSTAMP:20260425T013136
CREATED:20211104T151628Z
LAST-MODIFIED:20211125T115640Z
UID:360-1642239000-1642266000@academie-des-hp.com
SUMMARY:Formation: Module "Découverte" du 15 janvier 2022
DESCRIPTION:« Connaître l’Hyper-Préfrontalité et dépasser les idées reçues »\n\nComprendre\n\nDécouvrir son Hyper-Préfrontalité\n(Re)prendre conscience de son potentiel d’évolution\n\n\nAgir\n\nRenforcer l’estime de soi\nAméliorer sa posture relationnelle\n\n\n\n\nMéthodes:\n\nthéorie & pratique\nexercices et outils
URL:https://academie-des-hp.com/inscription/formation-module-decouverte/
LOCATION:Académie des H-P\, Allée du Jaquemart 8 bte 4\,\, Nivelles\, 1400\, Belgique
CATEGORIES:Formation
ATTACH;FMTTYPE=image/jpeg:https://academie-des-hp.com/wp-content/uploads/2021/11/pexels-photo-356043.jpeg
END:VEVENT
END:VCALENDAR