BEGIN:VCALENDAR
VERSION:2.0
PRODID:-//Académie des HP - ECPv6.15.20//NONSGML v1.0//EN
CALSCALE:GREGORIAN
METHOD:PUBLISH
X-WR-CALNAME:Académie des HP
X-ORIGINAL-URL:https://academie-des-hp.com
X-WR-CALDESC:Évènements pour Académie des HP
REFRESH-INTERVAL;VALUE=DURATION:PT1H
X-Robots-Tag:noindex
X-PUBLISHED-TTL:PT1H
BEGIN:VTIMEZONE
TZID:Europe/Brussels
BEGIN:DAYLIGHT
TZOFFSETFROM:+0100
TZOFFSETTO:+0200
TZNAME:CEST
DTSTART:20220327T010000
END:DAYLIGHT
BEGIN:STANDARD
TZOFFSETFROM:+0200
TZOFFSETTO:+0100
TZNAME:CET
DTSTART:20221030T010000
END:STANDARD
BEGIN:DAYLIGHT
TZOFFSETFROM:+0100
TZOFFSETTO:+0200
TZNAME:CEST
DTSTART:20230326T010000
END:DAYLIGHT
BEGIN:STANDARD
TZOFFSETFROM:+0200
TZOFFSETTO:+0100
TZNAME:CET
DTSTART:20231029T010000
END:STANDARD
BEGIN:DAYLIGHT
TZOFFSETFROM:+0100
TZOFFSETTO:+0200
TZNAME:CEST
DTSTART:20240331T010000
END:DAYLIGHT
BEGIN:STANDARD
TZOFFSETFROM:+0200
TZOFFSETTO:+0100
TZNAME:CET
DTSTART:20241027T010000
END:STANDARD
END:VTIMEZONE
BEGIN:VEVENT
DTSTART;TZID=Europe/Brussels:20230122T100000
DTEND;TZID=Europe/Brussels:20230122T173000
DTSTAMP:20260424T053918
CREATED:20221020T094451Z
LAST-MODIFIED:20221020T094451Z
UID:801-1674381600-1674408600@academie-des-hp.com
SUMMARY:Formation: L'hypersensibilité: la comprendre\, l'accepter\, l'utiliser
DESCRIPTION:
URL:https://academie-des-hp.com/inscription/formation-lhypersensibilite-la-comprendre-laccepter-lutiliser-3/
LOCATION:Académie des H-P\, Allée du Jaquemart 8 bte 4\,\, Nivelles\, 1400\, Belgique
CATEGORIES:Formation
ORGANIZER;CN="Acad%C3%A9mie des H-P":MAILTO:info@academie-des-hp.com
END:VEVENT
END:VCALENDAR