BEGIN:VCALENDAR
VERSION:2.0
PRODID:-//Académie des HP - ECPv6.15.13.1//NONSGML v1.0//EN
CALSCALE:GREGORIAN
METHOD:PUBLISH
X-WR-CALNAME:Académie des HP
X-ORIGINAL-URL:https://academie-des-hp.com
X-WR-CALDESC:Évènements pour Académie des HP
REFRESH-INTERVAL;VALUE=DURATION:PT1H
X-Robots-Tag:noindex
X-PUBLISHED-TTL:PT1H
BEGIN:VTIMEZONE
TZID:Europe/Brussels
BEGIN:DAYLIGHT
TZOFFSETFROM:+0100
TZOFFSETTO:+0200
TZNAME:CEST
DTSTART:20240331T010000
END:DAYLIGHT
BEGIN:STANDARD
TZOFFSETFROM:+0200
TZOFFSETTO:+0100
TZNAME:CET
DTSTART:20241027T010000
END:STANDARD
BEGIN:DAYLIGHT
TZOFFSETFROM:+0100
TZOFFSETTO:+0200
TZNAME:CEST
DTSTART:20250330T010000
END:DAYLIGHT
BEGIN:STANDARD
TZOFFSETFROM:+0200
TZOFFSETTO:+0100
TZNAME:CET
DTSTART:20251026T010000
END:STANDARD
BEGIN:DAYLIGHT
TZOFFSETFROM:+0100
TZOFFSETTO:+0200
TZNAME:CEST
DTSTART:20260329T010000
END:DAYLIGHT
BEGIN:STANDARD
TZOFFSETFROM:+0200
TZOFFSETTO:+0100
TZNAME:CET
DTSTART:20261025T010000
END:STANDARD
END:VTIMEZONE
BEGIN:VEVENT
DTSTART;TZID=Europe/Brussels:20250823T100000
DTEND;TZID=Europe/Brussels:20250823T160000
DTSTAMP:20260422T223548
CREATED:20230828T095327Z
LAST-MODIFIED:20250612T144437Z
UID:1598-1755943200-1755964800@academie-des-hp.com
SUMMARY:Formation: Motivation et procrastination
DESCRIPTION:Vous connaissez cette sensation frustrante de remettre à demain ? Ce poids de la tâche à accomplir qui semble insurmontable ? Nous avons des réponses pour vous. \n🔍 **Découvrez lors de cette formation :** \n– Les rouages secrets de la motivation. \n– Les raisons profondes de notre tendance à procrastiner\, même face à des priorités. \n– Le fonctionnement intrinsèque de notre cerveau lorsqu’il est question d’agir… ou de repousser. \n💡 **Les atouts de cette journée :** \n– Une formation alliant théorie et mise en pratique : recevez des outils efficaces pour passer à l’action sans douleur. \n– Apprenez que la motivation n’est pas une question d’identité ou de nature de la tâche. \n– Réalisez que la motivation n’est pas un don inné\, mais repose sur des mécanismes simples à saisir et à activer. \n🎯 **Pour qui est cette formation ?** \nBien que cette formation soit essentielle pour tous les HP (hauts potentiels)\, elle est conçue pour bénéficier à tout le monde\, indépendamment des étiquettes. Chacun peut y trouver les clés pour mieux comprendre et stimuler sa motivation. \nInscription
URL:https://academie-des-hp.com/inscription/formation-motivation-et-procrastination-2/
LOCATION:Académie des H-P\, Allée du Jaquemart 8 bte 4\,\, Nivelles\, 1400\, Belgique
CATEGORIES:Formation
ATTACH;FMTTYPE=image/jpeg:https://academie-des-hp.com/wp-content/uploads/2023/01/IMG_5717.jpeg
ORGANIZER;CN="Acad%C3%A9mie des H-P":MAILTO:info@academie-des-hp.com
END:VEVENT
END:VCALENDAR