BEGIN:VCALENDAR
VERSION:2.0
PRODID:-//Académie des HP - ECPv6.15.13.1//NONSGML v1.0//EN
CALSCALE:GREGORIAN
METHOD:PUBLISH
X-ORIGINAL-URL:https://academie-des-hp.com
X-WR-CALDESC:Évènements pour Académie des HP
REFRESH-INTERVAL;VALUE=DURATION:PT1H
X-Robots-Tag:noindex
X-PUBLISHED-TTL:PT1H
BEGIN:VTIMEZONE
TZID:Europe/Brussels
BEGIN:DAYLIGHT
TZOFFSETFROM:+0100
TZOFFSETTO:+0200
TZNAME:CEST
DTSTART:20240331T010000
END:DAYLIGHT
BEGIN:STANDARD
TZOFFSETFROM:+0200
TZOFFSETTO:+0100
TZNAME:CET
DTSTART:20241027T010000
END:STANDARD
BEGIN:DAYLIGHT
TZOFFSETFROM:+0100
TZOFFSETTO:+0200
TZNAME:CEST
DTSTART:20250330T010000
END:DAYLIGHT
BEGIN:STANDARD
TZOFFSETFROM:+0200
TZOFFSETTO:+0100
TZNAME:CET
DTSTART:20251026T010000
END:STANDARD
BEGIN:DAYLIGHT
TZOFFSETFROM:+0100
TZOFFSETTO:+0200
TZNAME:CEST
DTSTART:20260329T010000
END:DAYLIGHT
BEGIN:STANDARD
TZOFFSETFROM:+0200
TZOFFSETTO:+0100
TZNAME:CET
DTSTART:20261025T010000
END:STANDARD
END:VTIMEZONE
BEGIN:VEVENT
DTSTART;TZID=Europe/Brussels:20251030T100000
DTEND;TZID=Europe/Brussels:20251031T163000
DTSTAMP:20260423T030141
CREATED:20251009T040037Z
LAST-MODIFIED:20251010T034320Z
UID:1488-1761818400-1761928200@academie-des-hp.com
SUMMARY:Stage Ados et scolarité (2 jours)
DESCRIPTION:2 jours de stage qui donneront à votre ado des outils pour : \nComprendre et réguler ses émotions\nRenforcer son estime de lui/elle\, et développer une attitude positive\nbénéficier d’une méthode de travail efficace et adapté à son mode de fonctionnement\nconnaître ses objectifs afin de gérer temps d’études et temps de loisirs\nSe motiver et cesser de repousser au lendemain ce qu’il/elle a à faire\nfaciliter sa connexion aux autres personnes et favoriser l’échange…\nPatrick \, co-fondateur de l’Académie des H-P\, coach professionnel\, spécialisés HP\, auteur du livre « Dans la tête des HP » animera ce stage pratique et innovant. \nAvec lui\, votre ado va découvrir son mode de fonctionnement\, balayer les étiquettes\, et…devenir (enfin) qui il/elle est pour mieux réussir sa scolarité\, ses sorties\,…et même s’amuser des tâches quotidiennes. \n2 jours de stage pour échanger avec votre ado et comprendre comment ça marche quand ça marche\, pourquoi ça ne marche pas quand ça ne marche pas\, et comment faire pour que ça marche quand ça ne marche pas. \nVite\, proposez à votre ado de l’inscrire à ce stage ! \nC’est fun\, intéressant et ça change la vie. \n  \nInscription
URL:https://academie-des-hp.com/inscription/stage-ados-et-scolarite/
LOCATION:Académie des H-P\, Allée du Jaquemart 8 bte 4\,\, Nivelles\, 1400\, Belgique
CATEGORIES:Formation
ATTACH;FMTTYPE=image/png:https://academie-des-hp.com/wp-content/uploads/2023/03/0451B33A-4B39-458D-AA09-1A01B8B299E5.png
ORGANIZER;CN="Acad%C3%A9mie des H-P":MAILTO:info@academie-des-hp.com
END:VEVENT
END:VCALENDAR