BEGIN:VCALENDAR
VERSION:2.0
PRODID:-//Académie des HP - ECPv6.15.20//NONSGML v1.0//EN
CALSCALE:GREGORIAN
METHOD:PUBLISH
X-WR-CALNAME:Académie des HP
X-ORIGINAL-URL:https://academie-des-hp.com
X-WR-CALDESC:Évènements pour Académie des HP
REFRESH-INTERVAL;VALUE=DURATION:PT1H
X-Robots-Tag:noindex
X-PUBLISHED-TTL:PT1H
BEGIN:VTIMEZONE
TZID:Europe/Brussels
BEGIN:DAYLIGHT
TZOFFSETFROM:+0100
TZOFFSETTO:+0200
TZNAME:CEST
DTSTART:20200329T010000
END:DAYLIGHT
BEGIN:STANDARD
TZOFFSETFROM:+0200
TZOFFSETTO:+0100
TZNAME:CET
DTSTART:20201025T010000
END:STANDARD
BEGIN:DAYLIGHT
TZOFFSETFROM:+0100
TZOFFSETTO:+0200
TZNAME:CEST
DTSTART:20210328T010000
END:DAYLIGHT
BEGIN:STANDARD
TZOFFSETFROM:+0200
TZOFFSETTO:+0100
TZNAME:CET
DTSTART:20211031T010000
END:STANDARD
BEGIN:DAYLIGHT
TZOFFSETFROM:+0100
TZOFFSETTO:+0200
TZNAME:CEST
DTSTART:20220327T010000
END:DAYLIGHT
BEGIN:STANDARD
TZOFFSETFROM:+0200
TZOFFSETTO:+0100
TZNAME:CET
DTSTART:20221030T010000
END:STANDARD
END:VTIMEZONE
BEGIN:VEVENT
DTSTART;TZID=Europe/Brussels:20211215T200000
DTEND;TZID=Europe/Brussels:20211215T220000
DTSTAMP:20260423T204911
CREATED:20211124T172959Z
LAST-MODIFIED:20211124T172959Z
UID:479-1639598400-1639605600@academie-des-hp.com
SUMMARY:Les Ateliers de l'Académie: vos sujets\, notre expertise (en ligne\, le 15 décembre 2021 à 20:00)
DESCRIPTION:Echanges et mentoring sur vos sujets \nSe déroulant dans un cadre bienveillant et sans aucun jugement\, les Ateliers de l’Académie sont des groupes d’échanges et de pratique. \nChaque participant peut partager son expérience privée ou professionnelle\, comme par exemple : \n\nJe suis hypersensible\,\nJe n’arrive pas à me concentrer\,\nJe suis fatigué d’avoir mon cerveau en ébullition\,\nJ’imagine toujours le pire\,\nJe vis avec un H-P et aidez-moi (et vice-versa)\,\nJe ne comprends parfois pas mes collègues \,\nMon enfant souffre à l’école de son décalage\,\n…\n\nSur base de ces échanges : \n\nL’animateur donne des moyens pour élaborer des solutions et partage des outils tirés du modèle de l’Hyper-Préfrontalité\,\nChaque participant peut\, pendant l’Atelier\, expérimenter ces techniques pour les appliquer concrètement.\n\nLes apports : \n\nPartager vos expériences et écouter celles des autres\,\nDécouvrir des nouveaux moyens pour vous aider\,\nTrouver vos solutions durables.\n\n\n	Remarque : JavaScript est requis pour ce contenu.
URL:https://academie-des-hp.com/inscription/les-ateliers-de-lacademie-vos-sujets-notre-expertise-en-ligne-le-15-decembre-2021-a-2000/
LOCATION:visio
CATEGORIES:Atelier
END:VEVENT
END:VCALENDAR